BEGIN:VCALENDAR
VERSION:2.0
PRODID:-//Mahasiddha Yoga - ECPv6.15.20//NONSGML v1.0//EN
CALSCALE:GREGORIAN
METHOD:PUBLISH
X-ORIGINAL-URL:https://tantrayogathailand.com
X-WR-CALDESC:Events for Mahasiddha Yoga
REFRESH-INTERVAL;VALUE=DURATION:PT1H
X-Robots-Tag:noindex
X-PUBLISHED-TTL:PT1H
BEGIN:VTIMEZONE
TZID:UTC
BEGIN:STANDARD
TZOFFSETFROM:+0000
TZOFFSETTO:+0000
TZNAME:UTC
DTSTART:20230101T000000
END:STANDARD
END:VTIMEZONE
BEGIN:VEVENT
DTSTART;VALUE=DATE:20241122
DTEND;VALUE=DATE:20241128
DTSTAMP:20260421T203752
CREATED:20241122T131831Z
LAST-MODIFIED:20241205T124012Z
UID:28066-1732233600-1732751999@tantrayogathailand.com
SUMMARY:Tantric Heart Retreat
DESCRIPTION:6-Day Tantric Heart Retreat\n\n\n\nThe Essence of The Tantric Path is The Opening and The Centring in The Heart\n\n\n\n\n\nThe Tantric Heart Retreat is a six-day immersive experience designed to awaken your heart and connect you to the essence of life. \n\n\n\n  \n\n\n\nAn intense and vibrant heart on the background of a quiet mind are the foundation of spiritual life. When the heart is closed and dry\, and the mind is agitated\, life has but little meaning and we don’t experience much joy and growth. No outer change or external action can truly fulfil us\, try as we might. \n\n\n\n  \n\n\n\nBut when the heart loves deeply and the mind is focused\, these two forces bring meaning to our actions and relationships\, making life truly fulfilling. The heart connects us to nature\, our soul\, and our deepest essence\, taking us beyond the limitations of societal expectations. With an awakened heart comes tremendous confidence\, fewer worries\, and a natural movement towards love. \n\n\n\n\n\nDuring the retreat\, we will systematically train the awakening of the Spiritual Heart and the silencing of the mind. Daily lectures will explore the timeless wisdom of Tantra\, drawing from texts like the Vijnana-Bhairava Tantra\, Mahanirvana Tantra\, and the Tantraloka\, all presented in a way that is both practical and alive with enthusiasm. Interactive workshops and heart-awakening exercises will unlock the vitality and passion of your heart\, fostering a connection not only to yourself but also to fellow participants. \n\n\n\n  \n\n\n\nYou’ll get the chance to directly experience the opening of the Heart and the blissful silence of the mind. \n\n\n\n\n\n\n\n\n\n\n\n\n\n\n\n\n\nDaily Schedule\n\n\n\nEach day will include yoga practice\, meditations\, lectures and exercises. A usual day would look like this: \n\n\n\n8:00 – 9:00 Hatha Yoga9:00 – 9:30 Meditation9:30 -10:45 Breakfast10:45 – 12:00 Lecture/teachings12:00 – 12:45 Meditation13:00 – 16:00 Lunch break16:00 – 16:30 Meditation16:30 – 17:30 Lecture/teachings17:45 – 18:30 Short Hatha Yoga and meditation20:15 – Heart opening exercise \n\n\n\nPLEASE NOTE THAT YOU CAN OPT TO JOIN JUST FOR THE WEEKEND (FRIDAY TO SUNDAY). KINDLY GET IN TOUCH WITH US FOR THIS OPTION AT TANTRAYOGACHIANGMAI@GMAIL.COM \n\n\n\n\n\n\n\n\n\nPractical details\n\n\n\n\n\n\n\n\n\n\n\n\n\n\nNovember 22 – 27\, 2024 \n\n\n\n\n\n\n\n\n\n\n\n\n\n\n\n\nAmrita Integral Yoga Centre\, a beautiful retreat centre built in accordance with the principles of sacred architecture\, and located in Mae On\, 40 minutes drive from Chiang Mai. (see location here)  \n\n\n\n\n\n\n\n\n\n\n\n\n\n\n\n\n\nShared room – THB 9\,250 (We have 4 shared rooms with 3 beds and one shared room with 6 beds. We first fill up all the rooms with 3 beds.) \n\n\n\nStandard Single – THB 15\,200 \n\n\n\nDeluxe Single – THB 17\,700 \n\n\n\nStandard Double (for 2 people) – THB 29\,000 \n\n\n\nDeluxe Double (for 2 people) – THB 31\,500 \n\n\n\n\n\n\n\n\n\n\n\n\n\n\n\n\n\nIf you can’t make it this time\, be the first to know the future dates by signing up to our newsletter or following us on Facebook. \n\n\n\nYour teachers\n\n\n\n\n\n\n\n\n\n\n\n\n\nBlandine Wegener\n\n\n\nBlandine is a Yoga and Tantra teacher at Mahasiddha. She has been deeply engaged in the yogic path for the past 15 years dedicating every day of her life to teaching\, personal growth and selfless service. She cofounded Mahasiddha Yoga in Chiang Mai and the Integral Yoga Centre Amrita\, an Ashram resort in the lush country side of Thailand. Blandine is a practicing psychologist and coach as well and shares her passion for spirituality\, yoga\, meditation and self growth in an inspiring way with everyone around her. \n\n\n\n\n\n\n\n\n\nUriel Yariv\n\n\n\nUriel is a Tantra and Yoga teacher at Mahasiddha Yoga\, and for the past 20 years he has devoted himself to the path of Tantra-Yoga with great enthusiasm. He has spent more than 2 years in silent retreats\, practicing meditation and yoga passionately. Uriel cofounded Mahasiddha Yoga and the Integral Yoga Center Amrita in Thailand. He has a master degree in clinical psychology and has written many articles about spirituality and psychology. Uriel shares his love of spirituality\, meditation and Tantra in a clear and tangible way\, and is an inspiration to many around him. \n\n\n\n\n\nWhat is included?\n\n\n\nThe price includes the course fee\, accommodation\, 3 vegetarian meals per day and transport to and from Chiang Mai city centre on the starting and ending date. The meals included in the first day are dinner\, and on the last day breakfast and lunch. All rooms are ensuite (with private bathrooms)\, have AC and hot water in the shower. The only difference between the deluxe and standard rooms is the size. \n\n\n\nTerms and Conditions\n\n\n\nPlease check out our Terms and Conditions page to find out about our refund policy and disclaimer about people with mental health issues. \n\n\n\nQuestions?\n\n\n\nWrite us a message on facebook at https://www.facebook.com/tantrayogachiangmai or call us on 0613-784-194. \n\n\n\n\n\n\n\n\n\n\n\n\n\n  \n\n\n\n 
URL:https://tantrayogathailand.com/retreats/tantric-heart/
ATTACH;FMTTYPE=image/jpeg:https://tantrayogathailand.com/wp-content/uploads/2024/11/Tantric-Heart-retreat-banner.jpg
END:VEVENT
END:VCALENDAR