BEGIN:VCALENDAR
VERSION:2.0
PRODID:-//Mahasiddha Yoga - ECPv6.15.20//NONSGML v1.0//EN
CALSCALE:GREGORIAN
METHOD:PUBLISH
X-WR-CALNAME:Mahasiddha Yoga
X-ORIGINAL-URL:https://tantrayogathailand.com
X-WR-CALDESC:Events for Mahasiddha Yoga
REFRESH-INTERVAL;VALUE=DURATION:PT1H
X-Robots-Tag:noindex
X-PUBLISHED-TTL:PT1H
BEGIN:VTIMEZONE
TZID:UTC
BEGIN:STANDARD
TZOFFSETFROM:+0000
TZOFFSETTO:+0000
TZNAME:UTC
DTSTART:20230101T000000
END:STANDARD
END:VTIMEZONE
BEGIN:VEVENT
DTSTART;TZID=UTC:20241208T150000
DTEND;TZID=UTC:20241208T235900
DTSTAMP:20260421T180704
CREATED:20241122T133738Z
LAST-MODIFIED:20241204T181927Z
UID:28075-1733670000-1733702340@tantrayogathailand.com
SUMMARY:Mahasiddha Yoga - 10 Year Anniversary Celebration
DESCRIPTION:Join us for a special day as we celebrate 10 incredible years of Mahasiddha Yoga!\n\n\n\n\n\nWe’re inviting you to this ???? ????? full of enriching experiences and joyful community connection. \n\n\n\nWhat to expect\n\n\n\n\n\n\nInspiring Lectures\n\n\n\nSoulful Yoga Practice\n\n\n\nDelicious Vegetarian Food\n\n\n\nRelaxing Sauna & Pool Time\n\n\n\nUplifting Kirtan to close the evening\n\n\n\n\n\n\n\n\n\n\nWe’re taking care of everything: transport\, food\, and the whole experience—??? ??? ???? ?? ?? ?? ???? ?? ?? ???????! \n\n\n\nDon’t miss this unique chance to celebrate and dive deeper into the world of Mahasiddha Yoga\, surrounded by like-minded souls. Come celebrate with us and mark this special milestone together! \n\n\n\n\n\n\n\n\n\n\n\n\n\nPractical details\n\n\n\n\n\n\n\n\n\n\n\n\n\n\nSunday\, December 8th\, 3pm \n\n\n\n\n\n\n\n\n\n\n\n\n\n\n\n\nAmrita Integral Yoga Centre\, a beautiful retreat centre built in accordance with the principles of sacred architecture\, and located in Mae On\, 40 minutes drive from Chiang Mai. (see location here)  \n\n\n\n\n\n\n\n\n\n\n\n\n\n\n\n\n\nFREE \n\n\n\n\n\n\n\n\n\n\n\n\n\n\n\n\n\nBooking in advance required! \n\n\n\nSpaces are limited\, so sign up early to secure your spot. We can’t wait to see you there! \n\n\n\n\n\n\n\n \n\n\n\n\n\n\n\n\n\n\n\n\n\n  \n\n\n\n 
URL:https://tantrayogathailand.com/retreats/mahasiddha-yoga-10-year-anniversary-celebration/
ATTACH;FMTTYPE=image/jpeg:https://tantrayogathailand.com/wp-content/uploads/2024/11/dji_fly_20221209_091944_965_1670585868313_photo_optimized-scaled.jpg
END:VEVENT
END:VCALENDAR