BEGIN:VCALENDAR
VERSION:2.0
PRODID:-//Mahasiddha Yoga - ECPv6.15.20//NONSGML v1.0//EN
CALSCALE:GREGORIAN
METHOD:PUBLISH
X-WR-CALNAME:Mahasiddha Yoga
X-ORIGINAL-URL:https://tantrayogathailand.com
X-WR-CALDESC:Events for Mahasiddha Yoga
REFRESH-INTERVAL;VALUE=DURATION:PT1H
X-Robots-Tag:noindex
X-PUBLISHED-TTL:PT1H
BEGIN:VTIMEZONE
TZID:UTC
BEGIN:STANDARD
TZOFFSETFROM:+0000
TZOFFSETTO:+0000
TZNAME:UTC
DTSTART:20240101T000000
END:STANDARD
END:VTIMEZONE
BEGIN:VEVENT
DTSTART;VALUE=DATE:20250215
DTEND;VALUE=DATE:20250217
DTSTAMP:20260421T140705
CREATED:20241122T144853Z
LAST-MODIFIED:20241205T123624Z
UID:28119-1739577600-1739750399@tantrayogathailand.com
SUMMARY:The Art of Dying
DESCRIPTION:The Art of Dying Weekend Retreat\n\n\n\nWith Foca Yariv\, at Amrita Integral Yoga Centre\n\n\n\n\n\nThroughout history\, every ancient spiritual tradition has placed great importance on understanding Death. But why are we so fascinated by this mysterious moment? What is hidden in the inevitable event that ends our lives as we know it? According to the wise\, dying is a sacred initiation—an entry into the secret of life itself. \n\n\n\nIn this powerful workshop with Foca Yariv\, we’ll explore death not as an ending\, but as a gateway to deeper spiritual awareness. You’ll gain profound insights on how contemplating death can transform how we live and open the door to realising the eternal. \n\n\n\nTopics we’ll cover \n\n\n\n\n\n\nSpiritual perspectives of death in different cultures\n\n\n\nThe importance of contemplating death\n\n\n\nUnderstanding the ephemeral and the eternal\n\n\n\nWhat reincarnates and what doesn’t\n\n\n\nInsights from near-death experiences\n\n\n\nRites of passage – death as a way of welcoming the new\n\n\n\n\n\n\n\nHelping those who are dying\n\n\n\nPreparing for your own inevitable death\n\n\n\nThe art of dying as the art of living\n\n\n\nKaya Kalpa – meditation in darkness\n\n\n\nMeditations related to death\n\n\n\n\n\n\n\n\n\n\n\n\n\n\n\n\nSchedule\n\n\n\n\n\nSaturday\, February 15th \n\n\n\n10:30 am – 11:45 am: First Session11:45 am – 12:00 pm: Break12:00 pm – 1:00 pm: Second Session1:00 pm – 2:15 pm: Lunch Break2:15 pm – 3:45 pm: Third Session3:45 pm – 4:15 pm: Break4:15 pm – 5:45 pm: Fourth Session5:45 pm: Dinner \n\n\n\n\n\nSunday\, February 16th \n\n\n\n10:00 am – 11:00 am: First Session11:00 am – 11:15 am: Break11:15 am – 1:00 pm: Kaya Kalpa Meditation1:00 pm – 2:15 pm: Lunch Break2:15 pm – 3:45 pm: Second Session3:45 pm – 4:15 pm: Break4:15 pm – 5:30 pm: Spiral & Conclusion \n\n\n\n\n\n \n\n\n\n\n\n\n\n\n\nPractical details\n\n\n\n\n\n\n\n\n\n\n\n\n\n\nFebruary 15 – 16\, 2024 \n\n\n\n\n\n\n\n\n\n\n\n\n\n\n\n\nAmrita Integral Yoga Centre\, a beautiful retreat centre built in accordance with the principles of sacred architecture\, and located in Mae On\, 40 minutes drive from Chiang Mai. (see location here)  \n\n\n\n\n\n\n\n\n\n\n\n\n\n\n\n\n\nShared Room (3 beds): 3\,800 THBStandard Single: 4.400 THBDeluxe Single: 4\,700 THBStandard Double (for 2 people): 8\,000 THBDeluxe Double (for 2 people): 8\,600 THB \n\n\n\n  \n\n\n\nDiscounts available for Thai nationals! \n\n\n\n\n\n\n\n\n\n\n\n\n\n\n\n\n\nIf you can’t make it this time\, be the first to know the future dates by signing up to our newsletter or following us on Facebook. \n\n\n\nYour teacher\n\n\n\n\n\n\n\n\n\n\n\n\n\n\n\n\n\nFoca Yariv\n\n\n\nBorn in Jerusalem\, Israel\, Foca’s journey into spiritual knowledge began early. He has been practicing Yoga and Tantra since the age of 17 and teaching since 2009. Foca has offered workshops around the world\, focusing on topics like the purpose of life\, the art of dying\, masculinity\, and eroticism. He currently teaches in London and Cambridge and guides men’s groups. \n\n\n\n\n\n\n\n\n\nWhat is included?\n\n\n\nPrice includes teaching fees\, accommodation\, meals and transport from Chiang Mai and back. \n\n\n\nFood and refreshments\n\n\n\nAll meals are deliciously prepared by our skilled Thai chef and are 100% vegetarian. Here’s what we’ll be serving:Day 1 (Saturday):• Fruits and tea on arrival• Lunch and dinnerDay 2 (Sunday):• Breakfast\, lunch\, and a late afternoon snackThroughout the whole workshop\, we’ll have fruits\, snacks\, tea\, and water available at all times to keep you refreshed and energized! \n\n\n\nTerms and Conditions\n\n\n\nPlease check out our Terms and Conditions page to find out about our refund policy and disclaimer about people with mental health issues. \n\n\n\nQuestions?\n\n\n\nWrite us a message on facebook at https://www.facebook.com/tantrayogachiangmai or call us on 0613-784-194. \n\n\n\n\n\n\n\n\n\n\n\n\n\n  \n\n\n\n 
URL:https://tantrayogathailand.com/retreats/art-of-dying/
ATTACH;FMTTYPE=image/jpeg:https://tantrayogathailand.com/wp-content/uploads/2024/11/art-of-dying-scaled.jpg
END:VEVENT
END:VCALENDAR