BEGIN:VCALENDAR
VERSION:2.0
PRODID:-//Mahasiddha Yoga - ECPv6.15.20//NONSGML v1.0//EN
CALSCALE:GREGORIAN
METHOD:PUBLISH
X-WR-CALNAME:Mahasiddha Yoga
X-ORIGINAL-URL:https://tantrayogathailand.com
X-WR-CALDESC:Events for Mahasiddha Yoga
REFRESH-INTERVAL;VALUE=DURATION:PT1H
X-Robots-Tag:noindex
X-PUBLISHED-TTL:PT1H
BEGIN:VTIMEZONE
TZID:UTC
BEGIN:STANDARD
TZOFFSETFROM:+0000
TZOFFSETTO:+0000
TZNAME:UTC
DTSTART:20250101T000000
END:STANDARD
END:VTIMEZONE
BEGIN:VEVENT
DTSTART;TZID=UTC:20260423T170000
DTEND;TZID=UTC:20260430T193000
DTSTAMP:20260422T223956
CREATED:20260422T145439Z
LAST-MODIFIED:20260422T145616Z
UID:30686-1776963600-1777577400@tantrayogathailand.com
SUMMARY:The Esoteric Tantra Course - A Journey Through The Chakras
DESCRIPTION:The Esoteric Tantra Course – A practical Journey through the 7 Chakras \n\n\n\nAbout the Esoteric Tantra Course\n\n\n\n\n\n\n\nThe Esoteric Tantra Course is an intense on-going class that guides you toward higher consciousness and a more fulfilling\, abundant life — all while walking the yogic path of spiritual growth. \n\n\n\nContrary to popular belief\, Tantra is not just about sex. Sacred eroticism is an element in Tantra but it is only a part of a much greater richness of knowledge and practice which Tantra has to offer. The tantric path is a beautiful combination of physical\, sensual\, emotional and spiritual awakening that will bring you closer to yourself and the divine. \n\n\n\nIn this course\, we’ll explore each chakra through seven modules of seven classes each. Each module will be devoted to a chakra. It’s a profound journey of inner transformation and self-discovery that starts with the root chakra and takes us all the way to the crown center. \n\n\n\n\n\nFor most of our students\, these classes are life-changing. Learning how our subtle anatomy is linked to our deep psychological patterns\, and how addressing an unbalanced chakra translates into particular behavioural transformations is one of the greatest revelations of the Tantric system. \n\n\n\nEach week\, we’ll also learn a new asana designed to activate\, energise\, balance\, or harmonise Manipura Chakra\, empowering our practice with tools to cultivate will power and self – confidence.  \n\n\n\nIf you are looking for a deep dive into the mysteries of Tantra combined with profound understanding and direct\, practical experience\, then this course is for you! \n\n\n\n\n\n\n\n\n\n\nSIGN UP\n\n\n\n\n\n\n\n\n\n\n\n\n\n\n\n\n\n\n\n\nWhat you’ll get in this course\n\n\n\n\n7 modules of 7 x 2.5 hour live classes each\, with theory and practice\n\n\n\nA lively community to support and help each other in our spiritual growth\n\n\n\nAccess to recordings in case you miss the live class\n\n\n\nPrinted lessons to deepen your understanding after each class.\n\n\n\nGuidance from experienced\, certified Tantra teachers with many years of experience in teaching Tantra\n\n\n\n\n\n\nYou will learn:\n\n\n\n\nHow each chakra influences us and what aspects of our life it governs\n\n\n\nAsanas for awakening and harmonising specific chakras (a unique feature of this course!)\n\n\n\nThe main principles and teachings of the Tantric System  \n\n\n\nHow to transform your mind\, body and spirit in a harmonious\, sustained way\n\n\n\nThepsychology of each chakra\n\n\n\n\n\n\n\n\n\n\n\n\n\n\n\n\nPractical details\n\n\n\n\n\n\n\n\n\n\n\n\n\n\nThursdays from 17:00 Bangkok Time  \n\n\n\n\n\n\n\n\n\n\n\n\n\n\n\n\nLive online through Zoom meetings. If you miss a class\, you can ask for the recording. \n\n\n\n\n\n\n\n\n\n\n\n\n\n\n\nPrice for one class: THB 500 / approx. EUR 13\, special offer – the first try-out class is THB 250!Price for the entire module: THB 3100 / approx. EUR 82Price for three modules (when bought at once): THB 9300 / EUR 245\,special discount – 3 modules for THB 7900 / approx. EUR 208\, save 1400 baht!Price for the year (when bought at once): THB 18700 / EUR 492\,special discount – one year for THB 17000 / approx. EUR 448\, save 1700 baht!(Thai nationals\, please contact us for a 50% discount) \n\n\n\n\n\n\n\n\n\n\nBook here\n\n\n\n\n\n\n\n\n\n\n\n\n\n\nIf you can’t make it this time\, be the first to know the future dates by signing up to our newsletter or following us on Facebook. \n\n\n\nThe Teachers\n\n\n\n\n\n\n\n\n\n\n\n\n\nIris\n\n\n\nIris is a Yoga and Tantra teacher based in Chiang Mai\, Thailand. With a background in Philosophy and Peace and Conflict Studies\, she spent years working in conflict resolution and peacebuilding at trauma centers worldwide. She later became a tantric massage therapist. Before moving to Thailand\, Iris worked for 7 years at a Yoga Centre in Aarhus\, Denmark\, where she offered a range of classes\, courses\, and workshops in massage\, Esoteric Tantra Yoga\, Integral Esoteric Yoga for singles and couples\, and dance empowerment courses for women. \n\n\n\n\n\n\n\n\n\nAldolinor\n\n\n\nAldolinor has been practicing yoga for the last thirty years and he daily finds new applications and depths of the spiritual truths and principles which he learned. He has been a yoga teacher for over 20 years and has a great enthusiasm to share some recipes from the tantra yogic tradition that have enriched his soul. He found that combining science with spirituality leads to modern day practical solutions that emerge from traditional wisdom\, which he communicated through articles\, conferences\, workshops and courses. \n\n\n\n\n\n\n\n\n\n\n\n\n\n\n\n\n\n\n\nDeposit & Cancellation Policies\n\n\n\nIf you have booked a retreat or workshop and you cancel your participation at least 21 days before the arrival date\, you will be fully refunded. \n\n\n\nIf you cancel your participation less than 21 days before the arrival date\, then: \n\n\n\n\nif you cancel no later than 24 hours after you’ve placed the booking\, you will be fully refunded.\n\n\n\nif you cancel later than 24 hours after you’ve placed the booking\, we will hold the deposit in the form of a credit for you\, that can be used in the future for any events with us.\n\n\n\n\nTerms and conditions\n\n\n\nYour participation in this course is subjected to terms and conditions which you can read here. \n\n\n\nDisclaimer for people with mental health issues\n\n\n\nKindly note that people who suffer from mental health issues\, or are currently on antidepressants or other psychiatric medications\, are strongly recommend not to join our courses or retreats. Those who do\, however\, decide to join\, do so on their own responsibility. \n\n\n\nQuestions?\n\n\n\nWrite us a message on facebook at https://www.facebook.com/tantrayogachiangmai or call us on 0613-784-194. \n\n\n\n\nAmrita Ashram\n\n\n\nReception Area\n\n\n\nReception\n\n\n\nAltar\n\n\n\nDeluxe Room  \n\n\n\nDeluxe Room view\n\n\n\nStandard Room\n\n\n\nDorm Room\n\n\n\nGarden\n\n\n\nAltar\n\n\n\nAlcoves\n\n\n\nPool \n\n\n\nFireplace\n\n\n\nYoga Hall \n\n\n\nLibrary\n\n\n\nAltar at night\n\n\n\n\n\n\n\n\n\n\n\n\n\n\n 
URL:https://tantrayogathailand.com/retreats/the-esoteric-tantra-course-a-journey-through-the-chakras/
ATTACH;FMTTYPE=image/png:https://tantrayogathailand.com/wp-content/uploads/2026/04/FEATURED-PHOTOS-WEBSITE-SIZE-2-scaled.png
END:VEVENT
END:VCALENDAR