BEGIN:VCALENDAR
VERSION:2.0
PRODID:-//Mahasiddha Yoga - ECPv6.15.20//NONSGML v1.0//EN
CALSCALE:GREGORIAN
METHOD:PUBLISH
X-ORIGINAL-URL:https://tantrayogathailand.com
X-WR-CALDESC:Events for Mahasiddha Yoga
REFRESH-INTERVAL;VALUE=DURATION:PT1H
X-Robots-Tag:noindex
X-PUBLISHED-TTL:PT1H
BEGIN:VTIMEZONE
TZID:UTC
BEGIN:STANDARD
TZOFFSETFROM:+0000
TZOFFSETTO:+0000
TZNAME:UTC
DTSTART:20250101T000000
END:STANDARD
END:VTIMEZONE
BEGIN:VEVENT
DTSTART;TZID=UTC:20261116T000000
DTEND;TZID=UTC:20261122T235959
DTSTAMP:20260422T215821
CREATED:20250707T202139Z
LAST-MODIFIED:20260406T123653Z
UID:29447-1794787200-1795391999@tantrayogathailand.com
SUMMARY:The 7 Chakras Retreat
DESCRIPTION:7-Day Yoga Retreat to Experience the 7 Chakras  – onsite at Amrita Integral Yoga Resort\n\n\n\nA practical introduction into the fundamental structure of our subtle anatomy\n\n\n\n\n\nIn this 7-day intensive course we’ll undertake a hands-on\, straightforward practical journey into the 7 chakras. Each day will be dedicated to a different chakra\, which we’ll discover through lectures\, meditations and special Hatha Yoga methods for awakening the chakras. Our approach combines the traditional yogic texts on the chakras and with relatable modern concepts and science\, making it highly applicable for daily life. You’ll receive tools and practices that you can later use to make your lives better through the inner work with the chakras. \n\n\n\nWe’ll use the texts of Hatha Yoga Pradipika\, Shat Chakra Nirodha\, Shiva Samhita\, and Mahanirvana Tantra as foundation for our practical journey into the chakras. \n\n\n\nThis retreat includes:\n\n\n\n\n\n\nLectures\n\n\n\nInteractive exercises for experiencing the chakras\n\n\n\nTraditional yogic knowledge made accessible with through modern scientific approach\n\n\n\nHighly practical tools and methods that you can take home with you\n\n\n\n\n\n\n\nMeditations\n\n\n\nSpecial Hatha Yoga methods for awakening the chakras\n\n\n\nSessions of questions and answers with discussion time for the group\n\n\n\nA team of highly experienced teachers who have been applying these teaching daily in their life\n\n\n\n\n\n\n\n\n\n\n\n\n\n\n\n\n\n\nWhy consider joining?\n\n\n\nThe chakras are an excellent path to inner growth and self-discovery. By working on them we can bring harmony and healing to the body\, emotions\, mind\, and to our interactions with others. \n\n\n\nOur approach is practical and direct. We’ve been doing this retreat for over 10 years – our teachers have been perseveringly practicing on the chakras for many years\, and they will share their practical knowledge with you. Besides that\, the groups that are formed in this retreat are very special. \n\n\n\nThe benefits of working with the chakras include: \n\n\n\n\n\n1. Vitality2. Will Power\, Courage3. Confidence4. Love \n\n\n\n\n\n5. Intuition6. Focus7. Spiritual Realization \n\n\n\n\n\n\n\n\n\n\nPay deposit here\n\n\n\n\n\n\n\n\nDaily Schedule\n\n\n\nA usual day at the Immersion would look like this: \n\n\n\n8:00 – 9:30 AM Hatha Yoga and Meditation9:30 – 10:40 AM Breakfast Break10:40 AM – 1:00 PM Midday Program1:00 – 4:00 PM Lunch Break4:00 – 6:30 PM Afternoon Program6:30 – 8:00 PM Dinner Break8:00 – 10:00 PM Evening Program \n\n\n\nPlease note that the schedule might change according to group size or other factors. \n\n\n\n\n\n\n\n\n\nPractical details \n\n\n\nDates\n\n\n\n\n\n\nNovember 16 – 22\, 2026 \n\n\n\n\n\n\nLocation\n\n\n\n\n\nAmrita Integral Yoga Centre\, a beautiful retreat centre built in accordance with the principles of sacred architecture\, and located in Mae On\, 40 minutes drive from Chiang Mai.  \n\n\n\n\n\nPrices\n\n\n\n\n\n\nShared room – THB 12\,900 (We have 4 shared rooms with 3 beds and one shared room with 6 beds. We first fill up all the rooms with 3 beds.) \n\n\n\nStandard Single – THB 16\,800 \n\n\n\nDeluxe Single – THB 19\,200 \n\n\n\nStandard Double (for 2 people) – THB – 30\,600 \n\n\n\nDeluxe Double (for 2 people) – THB – 33\,600 \n\n\n\n\n\n\n\n\n\n\nTo secure your place\, pay the deposit of 2000 THB \n\n\n\n\n\n\n\n\nPay deposit here\n\n\n\n\n\n\n\n\n\n\n\n\n\n\nIf you have any questions regarding the booking\, contact us on tantrayogachiangmai@gmail.com \n\n\n\nIf you can’t make it this time\, be the first to know the future dates by signing up to our newsletter or following us on Facebook. \n\n\n\nThe Teachers\n\n\n\n\n\n\n\n\n\n\n\n\n\nDeshna An\n\n\n\nDeshna is a Tantra and Yoga teacher and sound healing journey facilitator. With a background in Tibetan Buddhism and kinesiology\, she has been devoted to the path of Yoga for over 10 years. Since 2018\, Tantra has been at the heart of her spiritual journey\, opening her to continuous transformation and a life centered in love\, devotion\, compassion\, and aspiration. For the past 5 years\, she has been sharing her knowledge at Mahasiddha Yoga\, guiding both English and Chinese-speaking students on the path of Yoga and Tantra. \n\n\n\n\n\n\n\n\n\nUriel Yariv\n\n\n\nUriel is a Tantra and Yoga teacher with over 20 years devoted to the authentic Tantra Yoga path. He has spent more than two years in silence\, deepening his practice of yoga and meditation. Over 10 years ago\, he co-founded Mahasiddha Yoga and Amrita Integral Yoga Centre in Thailand. With a master’s degree in clinical psychology\, he naturally bridges psychology and spirituality. He shares his love for meditation\, Tantra\, and inner growth in a clear and tangible way\, inspiring many along the path.  \n\n\n\n\n\n\n\n\n\nIris Smeets\n\n\n\nIris is a Tantra and Yoga teacher\, tantric massage therapist\, and facilitator of women’s circles and empowerment dance courses. With a background in philosophy and peacebuilding\, she worked in conflict resolution and trauma centers worldwide before dedicating herself fully to Yoga and Tantra. She has been teaching for the past 7 years\, inspiring hearts through love\, devotion\, and aspiration\, and guiding others toward a soul-based life. She now shares her work at Mahasiddha Yoga through workshops\, courses\, and retreats. \n\n\n\n\n\nWhat is included?\n\n\n\nThe price includes the course fee\, accommodation\, 3 vegetarian meals per day and transport to and from Chiang Mai city centre on the starting and ending date. The meals included in the first day are dinner\, and on the last day breakfast and lunch. All rooms are ensuite (with private bathrooms)\, have AC and hot water in the shower. The only difference between the deluxe and standard rooms is the size. \n\n\n\n\n\n\n\n\n\n\n\n\n\nDeposit & Cancellation Policies\n\n\n\nIf you have booked a retreat or workshop and you cancel your participation at least 21 days before the arrival date\, you will be fully refunded. \n\n\n\nIf you cancel your participation less than 21 days before the arrival date\, then: \n\n\n\n\nif you cancel no later than 24 hours after you’ve placed the booking\, you will be fully refunded.\n\n\n\nif you cancel later than 24 hours after you’ve placed the booking\, we will hold the deposit in the form of a credit for you\, that can be used in the future for any events with us.\n\n\n\n\nTerms and conditions\n\n\n\nYour participation in this course is subjected to terms and conditions which you can read here. \n\n\n\nDisclaimer for people with mental health issues\n\n\n\nKindly note that people who suffer from mental health issues\, or are currently on antidepressants or other psychiatric medications\, are strongly recommend not to join our courses or retreats. Those who do\, however\, decide to join\, do so on their own responsibility. \n\n\n\nQuestions?\n\n\n\nWrite us a message on facebook at https://www.facebook.com/tantrayogachiangmai or call us on 0613-784-194. \n\n\n\n\nAmrita Ashram\n\n\n\nReception Area\n\n\n\nReception\n\n\n\nAltar\n\n\n\nDeluxe Room  \n\n\n\nDeluxe Room view\n\n\n\nStandard Room\n\n\n\nDorm Room\n\n\n\nGarden\n\n\n\nAltar\n\n\n\nAlcoves\n\n\n\nPool \n\n\n\nFireplace\n\n\n\nYoga Hall \n\n\n\nLibrary\n\n\n\nAltar at night\n\n\n\n\n\n\n\n\n\n\n\n\n\n\n 
URL:https://tantrayogathailand.com/retreats/the-7-chakra-retreat/
ATTACH;FMTTYPE=image/png:https://tantrayogathailand.com/wp-content/uploads/2025/07/Untitled-design-15-scaled.png
END:VEVENT
BEGIN:VEVENT
DTSTART;TZID=UTC:20261228T130000
DTEND;TZID=UTC:20270102T150000
DTSTAMP:20260422T215821
CREATED:20250705T074946Z
LAST-MODIFIED:20260422T170329Z
UID:29378-1798462800-1798902000@tantrayogathailand.com
SUMMARY:New Year Silent Meditation Retreat - Module 1
DESCRIPTION:6-Day New Year Silent Meditation Retreat – Module 1 – onsite at Amrita Integral Yoga Resort\n\n\n\nStart the New Year in deep silence and discover your true essence\n\n\n\n\n\nModule 1: December 28\, 2026 – January 2\, 2027Module 2: January 2 – 6\, 2027\n\n\n\nThis New Year’s Silent Retreat offers a beautiful opportunity to step into the new year consciously — with an open\, awakened heart\, held in the embrace of silence. \n\n\n\nThe first module (December 28 – January 2) focuses on understanding the mechanisms of meditation and awakening the heart — tapping into its depths to reach the soul. \n\n\n\nThrough profound lectures inspired by the Vijnana Bhairava Tantra\, Tantraloka\, and Patanjali’s Yoga Sutras\, we’ll explore the art of meditation — answering not only practical questions like how to meditate\, how to concentrate\, relax deeply\, and establish a daily habit of meditation and yoga practice that supports inner stillness\, but also delving into the metaphysical nature of consciousness itself. \n\n\n\nAlongside the teachings\, daily Hatha Yoga and meditation practices will help awaken the heart\, strengthen focus\, and prepare for the deeper meditation sessions of the second module (January 2 – 6). \n\n\n\nAlthough the retreat is held in silence\, it’s not about isolation. We’ll still connect through subtle interactive exercises\, shared presence\, and moments of gentle human warmth — even a few hugs. Each day also includes a written Q&A\, allowing participants to express and have their questions answered mindfully. \n\n\n\n\n\n\n\n\nBOOK YOUR SPOT FOR MODULE 1\n\n\n\n\n\n\n\n\n\n\n\n\n\n\n\n\n\n\nDaily Schedule\n\n\n\nEach day includes several meditations\, extended yoga practice and inspiring lectures. The day usually starts at 8.00 and concludes at 22.00. Besides meal breaks\, you will also enjoy time for personal contemplation or relaxation. \n\n\n\n8:00 – 9:30 AM Hatha Yoga and Meditation9:30 – 10:40 AM Breakfast Break10:40 AM – 1:00 PM Midday Program1:00 – 4:00 PM Lunch Break4:00 – 6:30 PM Afternoon Program6:30 – 8:00 PM Dinner Break8:00 – 10:00 PM Evening Program \n\n\n\nPlease note that the schedule might change according to group size or other factors. \n\n\n\n\n\n\n\n\n\nPractical details \n\n\n\nDates\n\n\n\n\n\n\nModule 1: December 28\, 2026 – January 2\, 2027For information about Module 2\, please visit the event page here. \n\n\n\n\n\n\nLocation\n\n\n\n\n\nAmrita Integral Yoga Centre\, a beautiful retreat centre built in accordance with the principles of sacred architecture\, and located in Mae On\, 40 minutes drive from Chiang Mai.  \n\n\n\n\n\nPrices\n\n\n\n\n\n\n\nShared room – THB 10\,750 (We have 4 shared rooms with 3 beds and one shared room with 6 beds. We first fill up all the rooms with 3 beds.) \n\n\n\nStandard Single – THB 14000  \n\n\n\nDeluxe Single – THB 16000  \n\n\n\nStandard Double (for 2 people) – THB 25500  \n\n\n\nDeluxe Double (for 2 people) – THB 28000  \n\n\n\n\n\n\n\n\n\n\n\nTo secure your place at the New Year Silent Meditation Retreat\, we kindly ask for a deposit of 2000 THB/person \n\n\n\n\n\n\n\n\nBOOK YOUR SPOT FOR MODULE 1\n\n\n\n\n\n\n\n\n\n\n\n\n\n\n\n” Very grateful for this wonderful experience of immersion into silence\, meditation soulful connections and tantric teachings. Only two retreats and I feel so whole and integrated. What I’ve received here was so much more than I expected and anticipated. This is a place for the heart. It is a place for those who seek\, who long for devine connection” Ana \n\n\n\n\n\n\n\n\nIf you have any questions regarding the booking\, contact us on tantrayogachiangmai@gmail.com \n\n\n\nIf you can’t make it this time\, be the first to know the future dates by signing up to our newsletter or following us on Facebook. \n\n\n\nThe Teachers\n\n\n\n\n\n\n\n\n\n\n\n\n\nDeshna An\n\n\n\nDeshna is a Tantra and Yoga teacher and sound healing journey facilitator. With a background in Tibetan Buddhism and kinesiology\, she has been devoted to the path of Yoga for over 10 years. Since 2018\, Tantra has been at the heart of her spiritual journey\, opening her to continuous transformation and a life centered in love\, devotion\, compassion\, and aspiration. For the past 5 years\, she has been sharing her knowledge at Mahasiddha Yoga\, guiding both English and Chinese-speaking students on the path of Yoga and Tantra. \n\n\n\n\n\n\n\n\n\nUriel Yariv\n\n\n\nUriel is a Tantra and Yoga teacher with over 20 years devoted to the authentic Tantra Yoga path. He has spent more than two years in silence\, deepening his practice of yoga and meditation. Over 10 years ago\, he co-founded Mahasiddha Yoga and Amrita Integral Yoga Centre in Thailand. With a master’s degree in clinical psychology\, he naturally bridges psychology and spirituality. He shares his love for meditation\, Tantra\, and inner growth in a clear and tangible way\, inspiring many along the path.  \n\n\n\n\n\n\n\n\n\nIris Smeets\n\n\n\nIris is a Tantra and Yoga teacher\, tantric massage therapist\, and facilitator of women’s circles and empowerment dance courses. With a background in philosophy and peacebuilding\, she worked in conflict resolution and trauma centers worldwide before dedicating herself fully to Yoga and Tantra. She has been teaching for the past 7 years\, inspiring hearts through love\, devotion\, and aspiration\, and guiding others toward a soul-based life. She now shares her work at Mahasiddha Yoga through workshops\, courses\, and retreats. \n\n\n\n\n\nWhat is included?\n\n\n\nThe price includes the course fee\, accommodation\, 3 vegetarian meals per day and transport to and from Chiang Mai city centre on the starting and ending date. The meals included in the first day are dinner\, and on the last day breakfast and lunch.  \n\n\n\n\n\n\n\n\n\n\n\n\n\n\n\n\n\nDeposit & Cancellation Policies\n\n\n\nIf you have booked a retreat or workshop and you cancel your participation at least 21 days before the arrival date\, you will be fully refunded. \n\n\n\nIf you cancel your participation less than 21 days before the arrival date\, then: \n\n\n\n\nif you cancel no later than 24 hours after you’ve placed the booking\, you will be fully refunded.\n\n\n\nif you cancel later than 24 hours after you’ve placed the booking\, we will hold the deposit in the form of a credit for you\, that can be used in the future for any events with us.\n\n\n\n\nTerms and conditions\n\n\n\nYour participation in this course is subjected to terms and conditions which you can read here. \n\n\n\nDisclaimer for people with mental health issues\n\n\n\nKindly note that people who suffer from mental health issues\, or are currently on antidepressants or other psychiatric medications\, are strongly recommend not to join our courses or retreats. Those who do\, however\, decide to join\, do so on their own responsibility. \n\n\n\nQuestions?\n\n\n\nWrite us a message on facebook at https://www.facebook.com/tantrayogachiangmai or call us on 0613-784-194. \n\n\n\n\nAmrita Ashram\n\n\n\nReception Area\n\n\n\nReception\n\n\n\nAltar\n\n\n\nDeluxe Room  \n\n\n\nDeluxe Room view\n\n\n\nStandard Room\n\n\n\nDorm Room\n\n\n\nGarden\n\n\n\nAltar\n\n\n\nAlcoves\n\n\n\nPool \n\n\n\nFireplace\n\n\n\nYoga Hall \n\n\n\nLibrary\n\n\n\nAltar at night\n\n\n\n\n\n\n\n\n\n\n\n\n\n\n 
URL:https://tantrayogathailand.com/retreats/new-year-silent-meditation-retreat/
ATTACH;FMTTYPE=image/png:https://tantrayogathailand.com/wp-content/uploads/2025/07/FEATURED-PHOTOS-WEBSITE-SIZE-4-scaled.png
END:VEVENT
BEGIN:VEVENT
DTSTART;TZID=UTC:20270102T150000
DTEND;TZID=UTC:20270106T150000
DTSTAMP:20260422T215821
CREATED:20250723T081448Z
LAST-MODIFIED:20260422T165100Z
UID:29562-1798902000-1799247600@tantrayogathailand.com
SUMMARY:New Year Silent Meditation Retreat - Module 2
DESCRIPTION:5-Day New Year Silent Meditation Retreat – Module 2 – onsite at Amrita Integral Yoga Resort\n\n\n\nStart the New Year in deep silence and discover your true essence\n\n\n\n\nJanuary 2 – 6\, 2026\n\n\n\nFor information about Module 1 (December 28th  2026 – January 2nd 2027) click here. \n\n\n\n\nJoin us for a relaxing\, initiating and awakening 5-day meditation retreat as we enter the mystery of our soul.  \n\n\n\nIn this New Year Silent Meditation Retreat\, we will offer a special meditation method for the revelation of the Highest Self\, Atman. This simple and highly efficient technique takes you step by step\, starting from the level where you are\, gradually uplifting you to Self-realization. \n\n\n\nThe Supreme\, Immortal Self\, also known as Atman in the oriental tradition\, is Pure Consciousness\, Pure Self\, the unchanging\, eternal Truth that is beyond the entire manifest world. The ancient text of Katha Upanishad states: \n\n\n\n\nAtman\, smaller than the small\, greater than the great\, is hidden in the hearts of all living creatures. It is not born; It does not die. It has not sprung from anything; nothing has sprung from It. Birthless\, eternal\, everlasting\, and ancient\, It is not killed when the body is killed. \n\n\n\n\nJoin us in this silent journey to discover the genuine treasures of your own inner universe\, to explore the mystery of who you are truly\, and awaken to your Supreme Immortal Self Atman. \n\n\n\n\n\n\n\nPlease note that Module 2 is only available for those who have either completed Module 1 or have attended the Silent Retreat with us before.\n\n\n\n\n\n\n\n\n\n\n\n\n\n\n\n\n\nDaily Schedule\n\n\n\nEach day includes several meditations (of various lengths) for unveiling the Self\, extended yoga practice and inspiring lectures. The day usually starts at 8.00 and concludes at 22.00. Besides meal breaks\, you will also enjoy time for personal contemplation or relaxation. \n\n\n\n8:00 – 9:30 AM Hatha Yoga and Meditation9:30 – 10:40 AM Breakfast Break10:40 AM – 1:00 PM Midday Program1:00 – 4:00 PM Lunch Break4:00 – 6:30 PM Afternoon Program6:30 – 8:00 PM Dinner Break8:00 – 10:00 PM Evening Program \n\n\n\nPlease note that the schedule might change according to group size or other factors. \n\n\n\n\n\n\n\n\n\n\n\n\n\nPractical details \n\n\n\nDates\n\n\n\n\n\n\nModule 2: January 2 – 6\, 2027For information about Module 1\, please visit the event page here. \n\n\n\n\n\n\nLocation\n\n\n\n\n\nAmrita Integral Yoga Centre\, a beautiful retreat centre built in accordance with the principles of sacred architecture\, and located in Mae On\, 40 minutes drive from Chiang Mai.  \n\n\n\n\n\nPrices\n\n\n\nShared room – THB 8600 (We have 4 shared rooms with 3 beds and one shared room with 6 beds. We first fill up all the rooms with 3 beds.)Standard Single – THB 11200Deluxe Single – THB 12800Standard Double (for 2 people) – THB 20400Deluxe Double (for 2 people) – THB 22400 \n\n\n\n\n\n\n\nTo secure your place at the New Year Silent Meditation Retreat – Module 2\, we kindly ask for a deposit of 2000 THB/person. \n\n\n\n\n\n\n\n\nBOOK YOUR SPOT FOR MODULE 2\n\n\n\n\n\n\n\n\n\n\n\n\n\n\n\n” Very grateful for this wonderful experience of immersion into silence\, meditation soulful connections and tantric teachings. Only two retreats and I feel so whole and integrated. What I’ve received here was so much more than I expected and anticipated. This is a place for the heart. It is a place for those who seek\, who long for devine connection”Ana \n\n\n\n\n\n\n\n\nIf you have any questions regarding the booking\, contact us on tantrayogachiangmai@gmail.com \n\n\n\nIf you can’t make it this time\, be the first to know the future dates by signing up to our newsletter or following us on Facebook. \n\n\n\nThe Teachers\n\n\n\n\n\n\n\n\n\n\n\n\n\nDeshna An\n\n\n\nDeshna is a Tantra and Yoga teacher and sound healing journey facilitator. With a background in Tibetan Buddhism and kinesiology\, she has been devoted to the path of Yoga for over 10 years. Since 2018\, Tantra has been at the heart of her spiritual journey\, opening her to continuous transformation and a life centered in love\, devotion\, compassion\, and aspiration. For the past 5 years\, she has been sharing her knowledge at Mahasiddha Yoga\, guiding both English and Chinese-speaking students on the path of Yoga and Tantra. \n\n\n\n\n\n\n\n\n\nUriel Yariv\n\n\n\nUriel is a Tantra and Yoga teacher with over 20 years devoted to the authentic Tantra Yoga path. He has spent more than two years in silence\, deepening his practice of yoga and meditation. Over 10 years ago\, he co-founded Mahasiddha Yoga and Amrita Integral Yoga Centre in Thailand. With a master’s degree in clinical psychology\, he naturally bridges psychology and spirituality. He shares his love for meditation\, Tantra\, and inner growth in a clear and tangible way\, inspiring many along the path.  \n\n\n\n\n\n\n\n\n\nIris Smeets\n\n\n\nIris is a Tantra and Yoga teacher\, tantric massage therapist\, and facilitator of women’s circles and empowerment dance courses. With a background in philosophy and peacebuilding\, she worked in conflict resolution and trauma centers worldwide before dedicating herself fully to Yoga and Tantra. She has been teaching for the past 7 years\, inspiring hearts through love\, devotion\, and aspiration\, and guiding others toward a soul-based life. She now shares her work at Mahasiddha Yoga through workshops\, courses\, and retreats. \n\n\n\n\n\nWhat is included?\n\n\n\nThe price includes the course fee\, accommodation\, 3 vegetarian meals per day and transport to and from Chiang Mai city centre on the starting and ending date. The meals included in the first day are dinner\, and on the last day breakfast and lunch.  \n\n\n\n\n\n\n\n\n\n\n\n\n\nDeposit & Cancellation Policies\n\n\n\nIf you have booked a retreat or workshop and you cancel your participation at least 21 days before the arrival date\, you will be fully refunded. \n\n\n\nIf you cancel your participation less than 21 days before the arrival date\, then: \n\n\n\n\nif you cancel no later than 24 hours after you’ve placed the booking\, you will be fully refunded.\n\n\n\nif you cancel later than 24 hours after you’ve placed the booking\, we will hold the deposit in the form of a credit for you\, that can be used in the future for any events with us.\n\n\n\n\nTerms and conditions\n\n\n\nYour participation in this course is subjected to terms and conditions which you can read here. \n\n\n\nDisclaimer for people with mental health issues\n\n\n\nKindly note that people who suffer from mental health issues\, or are currently on antidepressants or other psychiatric medications\, are strongly recommend not to join our courses or retreats. Those who do\, however\, decide to join\, do so on their own responsibility. \n\n\n\nQuestions?\n\n\n\nWrite us a message on facebook at https://www.facebook.com/tantrayogachiangmai or call us on 0613-784-194. \n\n\n\n\nAmrita Ashram\n\n\n\nReception Area\n\n\n\nReception\n\n\n\nAltar\n\n\n\nDeluxe Room  \n\n\n\nDeluxe Room view\n\n\n\nStandard Room\n\n\n\nDorm Room\n\n\n\nGarden\n\n\n\nAltar\n\n\n\nAlcoves\n\n\n\nPool \n\n\n\nFireplace\n\n\n\nYoga Hall \n\n\n\nLibrary\n\n\n\nAltar at night\n\n\n\n\n\n\n\n\n\n\n\n\n\n\n 
URL:https://tantrayogathailand.com/retreats/new-year-silent-meditation-retreat-2/
ATTACH;FMTTYPE=image/png:https://tantrayogathailand.com/wp-content/uploads/2025/07/FEATURED-PHOTOS-WEBSITE-SIZE-5-scaled.png
END:VEVENT
END:VCALENDAR