BEGIN:VCALENDAR
VERSION:2.0
PRODID:-//Mahasiddha Yoga - ECPv6.15.20//NONSGML v1.0//EN
CALSCALE:GREGORIAN
METHOD:PUBLISH
X-WR-CALNAME:Mahasiddha Yoga
X-ORIGINAL-URL:https://tantrayogathailand.com
X-WR-CALDESC:Events for Mahasiddha Yoga
REFRESH-INTERVAL;VALUE=DURATION:PT1H
X-Robots-Tag:noindex
X-PUBLISHED-TTL:PT1H
BEGIN:VTIMEZONE
TZID:UTC
BEGIN:STANDARD
TZOFFSETFROM:+0000
TZOFFSETTO:+0000
TZNAME:UTC
DTSTART:20240101T000000
END:STANDARD
END:VTIMEZONE
BEGIN:VEVENT
DTSTART;VALUE=DATE:20250207
DTEND;VALUE=DATE:20250213
DTSTAMP:20260421T124546
CREATED:20241122T141702Z
LAST-MODIFIED:20250122T133235Z
UID:28099-1738886400-1739404799@tantrayogathailand.com
SUMMARY:Tantra Retreat: The Meeting Between Devotion and Knowledge
DESCRIPTION:6-Day Advanced Tantra Retreat – The Meeting Point Between Devotion and Knowledge\n\n\n\n\n\nJoin us for a transformative 6-day journey into the heart of Tantra\, where love\, devotion\, and knowledge unite. This retreat blends the intensity of devotion (Shakti) with the peaceful consciousness of detachment (Shiva)\, drawing from key tantric texts and yogic teachings. Through meditations\, lectures and hatha yoga practices\, we’ll deepen our understanding of Tantra as both a path of love and knowledge. \n\n\n\n  \n\n\n\nTantra is often described as the path of love\, and throughout the retreat\, we will engage in practices that help deepen your devotion to a spiritual ideal\, our relationships with loved ones\, friends\, family\, a deity and community. Through a variety of exercises\, meditations\, and lectures\, you’ll explore how growth in love leads to spiritual growth and fulfilment. \n\n\n\n  \n\n\n\nOn the other hand\, Tantra is also a path of knowledge\, guiding us toward higher consciousness\, inner detachment\, and lasting peace. We will draw inspiration from traditions like Ramana Maharishi’s method of self-inquiry (“Who am I?”)\, helping us connect with the liberating wisdom of Tantra by observing inner silence and practicing non-attachment. \n\n\n\n\n\nMany practitioners find themselves inclined towards one aspect of Tantra – either the path of Jnana (knowledge) or that of Bhakti (devotion) – without integrating the other. Some become highly centered and detached but lack emotional richness\, while others dive deeply into devotion and intensity but may feel ungrounded or scattered. \n\n\n\n  \n\n\n\nIn this retreat\, we seek to synthesise these two wings: the vibrant energy of love and devotion (Shakti) with the peaceful\, centered consciousness (Shiva). Our teachings are drawn from key tantric scriptures such as the Vijnana Bhairava Tantra\, Tantraloka\, and Shiva Sutras\, which emphasise knowledge\, as well as texts like the Bhakti Sutras and Sundarya Lahari\, which awaken the heart’s devotion. \n\n\n\n\n\nWho is this retreat for?\n\n\n\n\n\nThis retreat is for everyone seeking an authentic tantric experience. Whether you are a beginner or an experienced yogi\, you will benefit from the teachings and practices offered here. Beginners will have the chance to awaken their inner aspiration and discover Tantra through its two most essential perspectives\, while advanced practitioners can deepen their understanding and refine their practice \n\n\n\n\n\n\n\nDaily Schedule\n\n\n\nA usual day at the Immersion would look like this: \n\n\n\n08:00 Hatha Yoga & Meditation for Emotional Healing09:30 Breakfast10:30 Lectures and workshop exercises13:00 Lunch break16:30 Lectures\, practice and special workshop exercises18:30 Dinner break20:15 Evening program21:30 Program ends \n\n\n\nPlease note that the schedule might change according to group size or other factors. \n\n\n\n\n\n\n\n\n\nPractical details\n\n\n\n\n\n\n\n\n\n\n\n\n\n\nFebruary 7 – 12\, 2024 \n\n\n\n\n\n\n\n\n\n\n\n\n\n\n\n\nAmrita Integral Yoga Centre\, a beautiful retreat centre built in accordance with the principles of sacred architecture\, and located in Mae On\, 40 minutes drive from Chiang Mai. (see location here)  \n\n\n\n\n\n\n\n\n\n\n\n\n\n\n\n\n\nBook now for EARLY BIRD prices and receive a discount of THB 1000 per person\, for any private room options (single or double). Offer ends midnight December 15\, 2024. Shared rooms not included in the offer. \n\n\n\nShared room – THB 9\,250 (We have 4 shared rooms 3 beds and one shared room with 6 beds. We first fill up all the rooms with 3 bed.) \n\n\n\nStandard Single – THB 15\,200 \n\n\n\nDeluxe Single – THB 17\,700 \n\n\n\nStandard Double (for 2 people) – THB 29\,000 \n\n\n\nDeluxe Double (for 2 people) – THB 31\,500 \n\n\n\n\n\n\n\n\n\n\n\n\n\n\n\n\n\nIf you can’t make it this time\, be the first to know the future dates by signing up to our newsletter or following us on Facebook. \n\n\n\nYour teachers\n\n\n\n\n\n\n\n\n\n\n\n\n\nBlandine Wegener\n\n\n\nBlandine is a Yoga and Tantra teacher at Mahasiddha. She has been deeply engaged in the yogic path for the past 15 years dedicating every day of her life to teaching\, personal growth and selfless service. She cofounded Mahasiddha Yoga in Chiang Mai and the Integral Yoga Centre Amrita\, an Ashram resort in the lush country side of Thailand. Blandine is a practicing psychologist and coach as well and shares her passion for spirituality\, yoga\, meditation and self growth in an inspiring way with everyone around her. \n\n\n\n\n\n\n\n\n\nUriel Yariv\n\n\n\nUriel is a Tantra and Yoga teacher at Mahasiddha Yoga\, and for the past 20 years he has devoted himself to the path of Tantra-Yoga with great enthusiasm. He has spent more than 2 years in silent retreats\, practicing meditation and yoga passionately. Uriel cofounded Mahasiddha Yoga and the Integral Yoga Center Amrita in Thailand. He has a master degree in clinical psychology and has written many articles about spirituality and psychology. Uriel shares his love of spirituality\, meditation and Tantra in a clear and tangible way\, and is an inspiration to many around him. \n\n\n\n \n\n\n\n\n\nWhat is included?\n\n\n\nThe price includes the course fee\, accommodation\, 3 vegetarian meals per day and transport to and from Chiang Mai city centre on the starting and ending date. The meals included in the first day are dinner\, and on the last day breakfast and lunch. All rooms are ensuite (with private bathrooms)\, have AC and hot water in the shower. The only difference between the deluxe and standard rooms is the size. \n\n\n\n\n\n\n\n\n\nTerms and Conditions\n\n\n\nPlease check out our Terms and Conditions page to find out about our refund policy and disclaimer about people with mental health issues. \n\n\n\nQuestions?\n\n\n\nWrite us a message on facebook at https://www.facebook.com/tantrayogachiangmai or call us on 0613-784-194. \n\n\n\n\n\n\n\n\n\n\n\n\n\n  \n\n\n\n 
URL:https://tantrayogathailand.com/retreats/devotion-knowledge-retreat/
ATTACH;FMTTYPE=image/jpeg:https://tantrayogathailand.com/wp-content/uploads/2024/11/RNI-Films-IMG-D293B869-A13F-4C68-BE30-E1FF6527574B-1.jpeg
END:VEVENT
BEGIN:VEVENT
DTSTART;VALUE=DATE:20250215
DTEND;VALUE=DATE:20250217
DTSTAMP:20260421T124546
CREATED:20241122T144853Z
LAST-MODIFIED:20241205T123624Z
UID:28119-1739577600-1739750399@tantrayogathailand.com
SUMMARY:The Art of Dying
DESCRIPTION:The Art of Dying Weekend Retreat\n\n\n\nWith Foca Yariv\, at Amrita Integral Yoga Centre\n\n\n\n\n\nThroughout history\, every ancient spiritual tradition has placed great importance on understanding Death. But why are we so fascinated by this mysterious moment? What is hidden in the inevitable event that ends our lives as we know it? According to the wise\, dying is a sacred initiation—an entry into the secret of life itself. \n\n\n\nIn this powerful workshop with Foca Yariv\, we’ll explore death not as an ending\, but as a gateway to deeper spiritual awareness. You’ll gain profound insights on how contemplating death can transform how we live and open the door to realising the eternal. \n\n\n\nTopics we’ll cover \n\n\n\n\n\n\nSpiritual perspectives of death in different cultures\n\n\n\nThe importance of contemplating death\n\n\n\nUnderstanding the ephemeral and the eternal\n\n\n\nWhat reincarnates and what doesn’t\n\n\n\nInsights from near-death experiences\n\n\n\nRites of passage – death as a way of welcoming the new\n\n\n\n\n\n\n\nHelping those who are dying\n\n\n\nPreparing for your own inevitable death\n\n\n\nThe art of dying as the art of living\n\n\n\nKaya Kalpa – meditation in darkness\n\n\n\nMeditations related to death\n\n\n\n\n\n\n\n\n\n\n\n\n\n\n\n\nSchedule\n\n\n\n\n\nSaturday\, February 15th \n\n\n\n10:30 am – 11:45 am: First Session11:45 am – 12:00 pm: Break12:00 pm – 1:00 pm: Second Session1:00 pm – 2:15 pm: Lunch Break2:15 pm – 3:45 pm: Third Session3:45 pm – 4:15 pm: Break4:15 pm – 5:45 pm: Fourth Session5:45 pm: Dinner \n\n\n\n\n\nSunday\, February 16th \n\n\n\n10:00 am – 11:00 am: First Session11:00 am – 11:15 am: Break11:15 am – 1:00 pm: Kaya Kalpa Meditation1:00 pm – 2:15 pm: Lunch Break2:15 pm – 3:45 pm: Second Session3:45 pm – 4:15 pm: Break4:15 pm – 5:30 pm: Spiral & Conclusion \n\n\n\n\n\n \n\n\n\n\n\n\n\n\n\nPractical details\n\n\n\n\n\n\n\n\n\n\n\n\n\n\nFebruary 15 – 16\, 2024 \n\n\n\n\n\n\n\n\n\n\n\n\n\n\n\n\nAmrita Integral Yoga Centre\, a beautiful retreat centre built in accordance with the principles of sacred architecture\, and located in Mae On\, 40 minutes drive from Chiang Mai. (see location here)  \n\n\n\n\n\n\n\n\n\n\n\n\n\n\n\n\n\nShared Room (3 beds): 3\,800 THBStandard Single: 4.400 THBDeluxe Single: 4\,700 THBStandard Double (for 2 people): 8\,000 THBDeluxe Double (for 2 people): 8\,600 THB \n\n\n\n  \n\n\n\nDiscounts available for Thai nationals! \n\n\n\n\n\n\n\n\n\n\n\n\n\n\n\n\n\nIf you can’t make it this time\, be the first to know the future dates by signing up to our newsletter or following us on Facebook. \n\n\n\nYour teacher\n\n\n\n\n\n\n\n\n\n\n\n\n\n\n\n\n\nFoca Yariv\n\n\n\nBorn in Jerusalem\, Israel\, Foca’s journey into spiritual knowledge began early. He has been practicing Yoga and Tantra since the age of 17 and teaching since 2009. Foca has offered workshops around the world\, focusing on topics like the purpose of life\, the art of dying\, masculinity\, and eroticism. He currently teaches in London and Cambridge and guides men’s groups. \n\n\n\n\n\n\n\n\n\nWhat is included?\n\n\n\nPrice includes teaching fees\, accommodation\, meals and transport from Chiang Mai and back. \n\n\n\nFood and refreshments\n\n\n\nAll meals are deliciously prepared by our skilled Thai chef and are 100% vegetarian. Here’s what we’ll be serving:Day 1 (Saturday):• Fruits and tea on arrival• Lunch and dinnerDay 2 (Sunday):• Breakfast\, lunch\, and a late afternoon snackThroughout the whole workshop\, we’ll have fruits\, snacks\, tea\, and water available at all times to keep you refreshed and energized! \n\n\n\nTerms and Conditions\n\n\n\nPlease check out our Terms and Conditions page to find out about our refund policy and disclaimer about people with mental health issues. \n\n\n\nQuestions?\n\n\n\nWrite us a message on facebook at https://www.facebook.com/tantrayogachiangmai or call us on 0613-784-194. \n\n\n\n\n\n\n\n\n\n\n\n\n\n  \n\n\n\n 
URL:https://tantrayogathailand.com/retreats/art-of-dying/
ATTACH;FMTTYPE=image/jpeg:https://tantrayogathailand.com/wp-content/uploads/2024/11/art-of-dying-scaled.jpg
END:VEVENT
BEGIN:VEVENT
DTSTART;VALUE=DATE:20250217
DTEND;VALUE=DATE:20250219
DTSTAMP:20260421T124546
CREATED:20241122T150627Z
LAST-MODIFIED:20250122T133427Z
UID:28130-1739750400-1739923199@tantrayogathailand.com
SUMMARY:The Meaning of Life
DESCRIPTION:The Meaning of Life 2-Day Workshop\n\n\n\nWith Foca Yariv\, at Amrita Integral Yoga Centre\n\n\n\n\n\nIn a world where you can be anything\, the only way to truly live is by being authentically YOU. Too often\, we mold ourselves to fit societal expectations\, suppressing our true gifts and aspirations. But deep down\, we all have something unique to offer the world\, something that brings us a sense of joy and purpose. \n\n\n\nThis two-day workshop is an opportunity to reset your inner compass and embrace the new\, authentic version of yourself. Through inspiring lectures\, exercises\, film clips\, and meditations\, Foca Yariv will guide you on the timeless journey of exploring life’s most profound question: “What is the meaning and purpose of life?” \n\n\n\nWhat to expect\n\n\n\n\n\n\nGain clarity on your authentic path\n\n\n\nLearn to move beyond social conditioning and follow your heart\n\n\n\nExercises and meditations to align with your true self\n\n\n\nInsights on living in flow with life’s purpose and experiencing true happiness\n\n\n\n\n\n\n\n\n\n\nSchedule\n\n\n\n\n\nSaturday\, February 17th \n\n\n\n10:30 am – 11:45 am: First Session11:45 am – 12:00 pm: Break12:00 pm – 1:00 pm: Second Session1:00 pm – 2:15 pm: Lunch Break2:15 pm – 3:45 pm: Third Session3:45 pm – 4:15 pm: Break4:15 pm – 5:45 pm: Fourth Session5:45 pm: Dinner \n\n\n\n\n\nSunday\, February 18th \n\n\n\n10:00 am – 11:00 am: First Session11:00 am – 11:15 am: Break11:15 am – 1:00 pm: Kaya Kalpa Meditation1:00 pm – 2:15 pm: Lunch Break2:15 pm – 3:45 pm: Second Session3:45 pm – 4:15 pm: Break4:15 pm – 5:30 pm: Spiral & Conclusion \n\n\n\n\n\n \n\n\n\n\n\n\n\n\n\nPractical details\n\n\n\n\n\n\n\n\n\n\n\n\n\n\nFebruary 17 – 18\, 2024 \n\n\n\n\n\n\n\n\n\n\n\n\n\n\n\n\nAmrita Integral Yoga Centre\, a beautiful retreat centre built in accordance with the principles of sacred architecture\, and located in Mae On\, 40 minutes drive from Chiang Mai. (see location here)  \n\n\n\n\n\n\n\n\n\n\n\n\n\n\n\n\n\nShared Room (3 beds): 3\,800 THBStandard Single: 4.400 THBDeluxe Single: 4\,700 THBStandard Double (for 2 people): 8\,000 THBDeluxe Double (for 2 people): 8\,600 THB \n\n\n\n  \n\n\n\nDiscounts available for Thai nationals! \n\n\n\n\n\n\n\n\n\n\n\n\n\n\n\n\n\nIf you can’t make it this time\, be the first to know the future dates by signing up to our newsletter or following us on Facebook. \n\n\n\nYour teacher\n\n\n\n\n\n\n\n\n\n\n\n\n\n\n\n\n\nFoca Yariv\n\n\n\nBorn in Jerusalem\, Israel\, Foca’s journey into spiritual knowledge began early. He has been practicing Yoga and Tantra since the age of 17 and teaching since 2009. Foca has offered workshops around the world\, focusing on topics like the purpose of life\, the art of dying\, masculinity\, and eroticism. He currently teaches in London and Cambridge and guides men’s groups. \n\n\n\n\n\n\n\n\n\nWhat is included?\n\n\n\nPrice includes teaching fees\, accommodation\, meals and transport from Chiang Mai and back. \n\n\n\nFood and refreshments\n\n\n\nAll meals are deliciously prepared by our skilled Thai chef and are 100% vegetarian. Here’s what we’ll be serving:Day 1 (Saturday):• Fruits and tea on arrival• Lunch and dinnerDay 2 (Sunday):• Breakfast\, lunch\, and a late afternoon snackThroughout the whole workshop\, we’ll have fruits\, snacks\, tea\, and water available at all times to keep you refreshed and energized! \n\n\n\nTerms and Conditions\n\n\n\nPlease check out our Terms and Conditions page to find out about our refund policy and disclaimer about people with mental health issues. \n\n\n\nQuestions?\n\n\n\nWrite us a message on facebook at https://www.facebook.com/tantrayogachiangmai or call us on 0613-784-194. \n\n\n\n\n\n\n\n\n\n\n\n\n\n  \n\n\n\n \n\n\n\n\n\n 
URL:https://tantrayogathailand.com/retreats/meaning-of-life/
ATTACH;FMTTYPE=image/jpeg:https://tantrayogathailand.com/wp-content/uploads/2024/11/photo_2024-11-19_14-56-13.jpg
END:VEVENT
END:VCALENDAR